BEGIN:VCALENDAR
VERSION:2.0
PRODID:-//Forward Pinellas - ECPv6.15.18//NONSGML v1.0//EN
CALSCALE:GREGORIAN
METHOD:PUBLISH
X-WR-CALNAME:Forward Pinellas
X-ORIGINAL-URL:https://forwardpinellas.org
X-WR-CALDESC:Events for Forward Pinellas
REFRESH-INTERVAL;VALUE=DURATION:PT1H
X-Robots-Tag:noindex
X-PUBLISHED-TTL:PT1H
BEGIN:VTIMEZONE
TZID:America/New_York
BEGIN:DAYLIGHT
TZOFFSETFROM:-0500
TZOFFSETTO:-0400
TZNAME:EDT
DTSTART:20250309T070000
END:DAYLIGHT
BEGIN:STANDARD
TZOFFSETFROM:-0400
TZOFFSETTO:-0500
TZNAME:EST
DTSTART:20251102T060000
END:STANDARD
BEGIN:DAYLIGHT
TZOFFSETFROM:-0500
TZOFFSETTO:-0400
TZNAME:EDT
DTSTART:20260308T070000
END:DAYLIGHT
BEGIN:STANDARD
TZOFFSETFROM:-0400
TZOFFSETTO:-0500
TZNAME:EST
DTSTART:20261101T060000
END:STANDARD
BEGIN:DAYLIGHT
TZOFFSETFROM:-0500
TZOFFSETTO:-0400
TZNAME:EDT
DTSTART:20270314T070000
END:DAYLIGHT
BEGIN:STANDARD
TZOFFSETFROM:-0400
TZOFFSETTO:-0500
TZNAME:EST
DTSTART:20271107T060000
END:STANDARD
END:VTIMEZONE
BEGIN:VEVENT
DTSTART;TZID=America/New_York:20260425T090000
DTEND;TZID=America/New_York:20260425T110000
DTSTAMP:20260425T093923
CREATED:20260220T160524Z
LAST-MODIFIED:20260220T160600Z
UID:64653-1777107600-1777114800@forwardpinellas.org
SUMMARY:Bike Your City - Tarpon Springs
DESCRIPTION:Join Forward Pinellas and the City of Tarpon Springs for Bike Your City!\nDate/Time: Saturday\, April 25\, 2026 from 9:00 – 11:00 a.m. \nLocation: North Safford Park\, 131 Athenian Way\, Tarpon Springs\, FL 34689 \nAbout Bike Your City: This event is FREE. Bike Your City is a slow-paced\, family-friendly bike ride that showcases the many beautiful sights and wonderful amenities around Pinellas County. On this guided and slow tour\, riders will learn about roadway safety and trail etiquette while exploring scenic\, local amenities. Space is limited. Registration is required. \nEvent Page & Registration: forwardpinellas.org/projects/bike-your-city-2026/
URL:https://forwardpinellas.org/event/bike-your-city-tarpon-springs/
LOCATION:FL
ATTACH;FMTTYPE=image/png:https://forwardpinellas.org/wp-content/uploads/2026/02/BYC-2026-banner-1.png
END:VEVENT
END:VCALENDAR