BEGIN:VCALENDAR
VERSION:2.0
PRODID:-//Forward Pinellas - ECPv6.15.18//NONSGML v1.0//EN
CALSCALE:GREGORIAN
METHOD:PUBLISH
X-WR-CALNAME:Forward Pinellas
X-ORIGINAL-URL:https://forwardpinellas.org
X-WR-CALDESC:Events for Forward Pinellas
REFRESH-INTERVAL;VALUE=DURATION:PT1H
X-Robots-Tag:noindex
X-PUBLISHED-TTL:PT1H
BEGIN:VTIMEZONE
TZID:America/New_York
BEGIN:DAYLIGHT
TZOFFSETFROM:-0500
TZOFFSETTO:-0400
TZNAME:EDT
DTSTART:20180311T070000
END:DAYLIGHT
BEGIN:STANDARD
TZOFFSETFROM:-0400
TZOFFSETTO:-0500
TZNAME:EST
DTSTART:20181104T060000
END:STANDARD
BEGIN:DAYLIGHT
TZOFFSETFROM:-0500
TZOFFSETTO:-0400
TZNAME:EDT
DTSTART:20190310T070000
END:DAYLIGHT
BEGIN:STANDARD
TZOFFSETFROM:-0400
TZOFFSETTO:-0500
TZNAME:EST
DTSTART:20191103T060000
END:STANDARD
BEGIN:DAYLIGHT
TZOFFSETFROM:-0500
TZOFFSETTO:-0400
TZNAME:EDT
DTSTART:20200308T070000
END:DAYLIGHT
BEGIN:STANDARD
TZOFFSETFROM:-0400
TZOFFSETTO:-0500
TZNAME:EST
DTSTART:20201101T060000
END:STANDARD
BEGIN:DAYLIGHT
TZOFFSETFROM:-0500
TZOFFSETTO:-0400
TZNAME:EDT
DTSTART:20210314T070000
END:DAYLIGHT
BEGIN:STANDARD
TZOFFSETFROM:-0400
TZOFFSETTO:-0500
TZNAME:EST
DTSTART:20211107T060000
END:STANDARD
END:VTIMEZONE
BEGIN:VTIMEZONE
TZID:UTC
BEGIN:STANDARD
TZOFFSETFROM:+0000
TZOFFSETTO:+0000
TZNAME:UTC
DTSTART:20160101T000000
END:STANDARD
END:VTIMEZONE
BEGIN:VEVENT
DTSTART;TZID=America/New_York:20200915T091500
DTEND;TZID=America/New_York:20200915T111500
DTSTAMP:20260425T105744
CREATED:20191115T194236Z
LAST-MODIFIED:20200904T184417Z
UID:5233-1600161300-1600168500@forwardpinellas.org
SUMMARY:LOCAL COORDINATING BOARD (LCB) VIRTUAL MEETING
DESCRIPTION:LOCAL COORDINATING BOARD (LCB) VIRTUAL MEETING \nTo attend the LCB Virtual Meeting\, go to: https://us02web.zoom.us/j/87926858389?pwd=ZGNwU3pxMHlOWE03QnFQYmxuNklRQT09 \nMeeting ID: 879 2685 8389. Password: 446425. Phone No.: 1-646-876-9923. Additional access instructions available through agenda link at: https://forwardpinellas.org/about-us/advisory-committees/local-coordinating-board-lcb/ \nPublic participation is solicited without regard to race\, color\, national origin\, age\, sex\, religion\, disability\, or family status. Persons who require special accommodations under the Americans with Disabilities Act or persons who require translation services (free of charge) should contact the Office of Human Rights\, 400 South Fort Harrison Avenue\, Suite 300\, Clearwater\, Florida 33756; [(727) 464-4062 (V/TDD)] at least seven days prior to the meeting. \nAppeals: Certain public meetings result in actions taken by the public board\, commission or agency that may be appealed; in such case persons are advised that\, if they decide to appeal any decision made at a public meeting/hearing\, they will need a record of the proceedings\, and\, for such purposes\, they may need to ensure that a verbatim record of the proceedings is made\, which record includes the testimony and evidence upon which the appeal is to be based. \n 
URL:https://forwardpinellas.org/event/local-coordinating-board-lcb-3-2020-09-15/
LOCATION:Virtual Meeting\, FL\, United States
CATEGORIES:Local Coordinating Board
ORGANIZER;CN="Robert Feigel":MAILTO:rfeigel@forwardpinellas.org
GEO:27.9625617;-82.8015173
END:VEVENT
BEGIN:VEVENT
DTSTART;TZID=America/New_York:20200827T190000
DTEND;TZID=America/New_York:20200827T210000
DTSTAMP:20260425T105744
CREATED:20191115T203547Z
LAST-MODIFIED:20200819T132903Z
UID:5342-1598554800-1598562000@forwardpinellas.org
SUMMARY:CITIZENS ADVISORY COMMITTEE (CAC) VIRTUAL MEETING
DESCRIPTION:CITIZENS ADVISORY COMMITTEE (CAC) VIRTUAL MEETING \nTo attend the CAC Virtual Meeting\, go to: https://us02web.zoom.us/j/89919938410?pwd=KzEwMVFrSW9sVERpV05Sd2ZaSUNiZz09 \nMeeting ID: 899 1993 8410 Passcode: 052984 Phone No.: 1-646-876-9923. Additional access instructions available through agenda link at: https://forwardpinellas.org/about-us/advisory-committees/citizens-advisory-council-cac \nPublic participation is solicited without regard to race\, color\, national origin\, age\, sex\, religion\, disability\, or family status. Persons who require special accommodations under the Americans with Disabilities Act or persons who require translation services (free of charge) should contact the Office of Human Rights\, 400 South Fort Harrison Avenue\, Suite 300\, Clearwater\, Florida 33756; [(727) 464-4062 (V/TDD)] at least seven days prior to the meeting.\nAppeals: Certain public meetings result in actions taken by the public board\, commission or agency that may be appealed; in such case persons are advised that\, if they decide to appeal any decision made at a public meeting/hearing\, they will need a record of the proceedings\, and\, for such purposes\, they may need to ensure that a verbatim record of the proceedings is made\, which record includes the testimony and evidence upon which the appeal is to be based. \n 
URL:https://forwardpinellas.org/event/citizens-advisory-committee-cac-4-2020-08-27/
LOCATION:Virtual Meeting\, FL\, United States
CATEGORIES:Citizens Advisory Committee
ORGANIZER;CN="Robert Feigel":MAILTO:rfeigel@forwardpinellas.org
GEO:27.9625617;-82.8015173
END:VEVENT
BEGIN:VEVENT
DTSTART;TZID=America/New_York:20200723T080000
DTEND;TZID=America/New_York:20200723T170000
DTSTAMP:20260425T105744
CREATED:20191115T203547Z
LAST-MODIFIED:20200609T130300Z
UID:5341-1595491200-1595523600@forwardpinellas.org
SUMMARY:CITIZENS ADVISORY COMMITTEE (CAC) - CANCELLED
DESCRIPTION:7:00 pm\, 310 Court Street\, Clearwater \nInformation on the Citizens Advisory Committee is available at: https://forwardpinellas.org/about-us/advisory-committees/citizens-advisory-council-cac \nPublic participation is solicited without regard to race\, color\, national origin\, age\, sex\, religion\, disability\, or family status. Persons who require special accommodations under the Americans with Disabilities Act or persons who require translation services (free of charge) should contact the Office of Human Rights\, 400 South Fort Harrison Avenue\, Suite 300\, Clearwater\, Florida 33756; [(727) 464-4062 (V/TDD)] at least seven days prior to the meeting.\nAppeals: Certain public meetings result in actions taken by the public board\, commission or agency that may be appealed; in such case persons are advised that\, if they decide to appeal any decision made at a public meeting/hearing\, they will need a record of the proceedings\, and\, for such purposes\, they may need to ensure that a verbatim record of the proceedings is made\, which record includes the testimony and evidence upon which the appeal is to be based. \n 
URL:https://forwardpinellas.org/event/citizens-advisory-committee-cac-4-2020-07-23/
LOCATION:Virtual Meeting\, FL\, United States
CATEGORIES:Citizens Advisory Committee
ORGANIZER;CN="Robert Feigel":MAILTO:rfeigel@forwardpinellas.org
GEO:27.9625617;-82.8015173
END:VEVENT
BEGIN:VEVENT
DTSTART;TZID=America/New_York:20200625T080000
DTEND;TZID=America/New_York:20200625T170000
DTSTAMP:20260425T105744
CREATED:20191115T203547Z
LAST-MODIFIED:20200609T130156Z
UID:5340-1593072000-1593104400@forwardpinellas.org
SUMMARY:CITIZENS ADVISORY COMMITTEE (CAC) - CANCELLED
DESCRIPTION:7:00 pm\, 310 Court Street\, Clearwater \nInformation on the Citizens Advisory Committee is available at: https://forwardpinellas.org/about-us/advisory-committees/citizens-advisory-council-cac \nPublic participation is solicited without regard to race\, color\, national origin\, age\, sex\, religion\, disability\, or family status. Persons who require special accommodations under the Americans with Disabilities Act or persons who require translation services (free of charge) should contact the Office of Human Rights\, 400 South Fort Harrison Avenue\, Suite 300\, Clearwater\, Florida 33756; [(727) 464-4062 (V/TDD)] at least seven days prior to the meeting.\nAppeals: Certain public meetings result in actions taken by the public board\, commission or agency that may be appealed; in such case persons are advised that\, if they decide to appeal any decision made at a public meeting/hearing\, they will need a record of the proceedings\, and\, for such purposes\, they may need to ensure that a verbatim record of the proceedings is made\, which record includes the testimony and evidence upon which the appeal is to be based. \n 
URL:https://forwardpinellas.org/event/citizens-advisory-committee-cac-4-2020-06-25/
LOCATION:Virtual Meeting\, FL\, United States
CATEGORIES:Citizens Advisory Committee
ORGANIZER;CN="Robert Feigel":MAILTO:rfeigel@forwardpinellas.org
GEO:27.9625617;-82.8015173
END:VEVENT
BEGIN:VEVENT
DTSTART;TZID=America/New_York:20200528T080000
DTEND;TZID=America/New_York:20200528T170000
DTSTAMP:20260425T105744
CREATED:20191115T203547Z
LAST-MODIFIED:20200514T165712Z
UID:5339-1590652800-1590685200@forwardpinellas.org
SUMMARY:CITIZENS ADVISORY COMMITTEE (CAC) VIRTUAL MEETING
DESCRIPTION:CITIZENS ADVISORY COMMITTEE (CAC) VIRTUAL MEETING \nTo attend the CAC Virtual meeting\, go to: \nhttps://us02web.zoom.us/j/81612735231?pwd=WWFBZWg1Q2VsbnpZR0JwN0ZyVjQ1dz09 \nMeeting ID: 816-1273-5231Password: 067208. Phone No.: 1-646-876-9923. Additional access instructions available through agenda link at:: https://forwardpinellas.org/about-us/advisory-committees/citizens-advisory-council-cac \nPublic participation is solicited without regard to race\, color\, national origin\, age\, sex\, religion\, disability\, or family status. Persons who require special accommodations under the Americans with Disabilities Act or persons who require translation services (free of charge) should contact the Office of Human Rights\, 400 South Fort Harrison Avenue\, Suite 300\, Clearwater\, Florida 33756; [(727) 464-4062 (V/TDD)] at least seven days prior to the meeting.\nAppeals: Certain public meetings result in actions taken by the public board\, commission or agency that may be appealed; in such case persons are advised that\, if they decide to appeal any decision made at a public meeting/hearing\, they will need a record of the proceedings\, and\, for such purposes\, they may need to ensure that a verbatim record of the proceedings is made\, which record includes the testimony and evidence upon which the appeal is to be based. \n 
URL:https://forwardpinellas.org/event/citizens-advisory-committee-cac-4-2020-05-28/
LOCATION:Virtual Meeting\, FL\, United States
CATEGORIES:Citizens Advisory Committee
ORGANIZER;CN="Robert Feigel":MAILTO:rfeigel@forwardpinellas.org
GEO:27.9625617;-82.8015173
END:VEVENT
BEGIN:VEVENT
DTSTART;TZID=America/New_York:20200519T091500
DTEND;TZID=America/New_York:20200519T111500
DTSTAMP:20260425T105744
CREATED:20191115T194236Z
LAST-MODIFIED:20200514T165333Z
UID:5232-1589879700-1589886900@forwardpinellas.org
SUMMARY:LOCAL COORDINATING BOARD (LCB) VIRTUAL MEETING
DESCRIPTION:LOCAL COORDINATING BOARD (LCB) VIRTUAL MEETING \nTo attend the LCB Virtual Meeting\, go to: https://us02web.zoom.us/j/82826662238?pwd=OS9ySXJWNURtcmxVOFp5RXhtVXhIdz09 \nMeeting ID: 828 2666 2238. Password: 309865. Phone No.: 1-646-876-9923. Additional access instructions available through agenda link at: https://forwardpinellas.org/about-us/advisory-committees/local-coordinating-board-lcb/ \nPublic participation is solicited without regard to race\, color\, national origin\, age\, sex\, religion\, disability\, or family status. Persons who require special accommodations under the Americans with Disabilities Act or persons who require translation services (free of charge) should contact the Office of Human Rights\, 400 South Fort Harrison Avenue\, Suite 300\, Clearwater\, Florida 33756; [(727) 464-4062 (V/TDD)] at least seven days prior to the meeting. \nAppeals: Certain public meetings result in actions taken by the public board\, commission or agency that may be appealed; in such case persons are advised that\, if they decide to appeal any decision made at a public meeting/hearing\, they will need a record of the proceedings\, and\, for such purposes\, they may need to ensure that a verbatim record of the proceedings is made\, which record includes the testimony and evidence upon which the appeal is to be based. \n  \n 
URL:https://forwardpinellas.org/event/local-coordinating-board-lcb-3-2020-05-19/
LOCATION:Virtual Meeting\, FL\, United States
CATEGORIES:Local Coordinating Board
ORGANIZER;CN="Robert Feigel":MAILTO:rfeigel@forwardpinellas.org
GEO:27.9625617;-82.8015173
END:VEVENT
BEGIN:VEVENT
DTSTART;TZID=America/New_York:20200423T190000
DTEND;TZID=America/New_York:20200423T210000
DTSTAMP:20260425T105744
CREATED:20191115T203547Z
LAST-MODIFIED:20200417T120247Z
UID:5338-1587668400-1587675600@forwardpinellas.org
SUMMARY:CITIZENS ADVISORY COMMITTEE (CAC) VIRTUAL MEETING
DESCRIPTION:To attend the CAC Virtual meeting\, go to: \nhttps://us04web.zoom.us/j/750166291?pwd=M1hoRmZqR01Ba3lXb2NaOGdKVDBnQT09​ \nMeeting ID: 750-166-291. Password: 065493. Phone No.: 1-646-876-9923. Additional access instructions available through agenda link at:: https://forwardpinellas.org/about-us/advisory-committees/citizens-advisory-council-cac \nPublic participation is solicited without regard to race\, color\, national origin\, age\, sex\, religion\, disability\, or family status. Persons who require special accommodations under the Americans with Disabilities Act or persons who require translation services (free of charge) should contact the Office of Human Rights\, 400 South Fort Harrison Avenue\, Suite 300\, Clearwater\, Florida 33756; [(727) 464-4062 (V/TDD)] at least seven days prior to the meeting.\nAppeals: Certain public meetings result in actions taken by the public board\, commission or agency that may be appealed; in such case persons are advised that\, if they decide to appeal any decision made at a public meeting/hearing\, they will need a record of the proceedings\, and\, for such purposes\, they may need to ensure that a verbatim record of the proceedings is made\, which record includes the testimony and evidence upon which the appeal is to be based. \n 
URL:https://forwardpinellas.org/event/citizens-advisory-committee-cac-4-2020-04-23/
LOCATION:Virtual Meeting\, FL\, United States
CATEGORIES:Citizens Advisory Committee
ORGANIZER;CN="Robert Feigel":MAILTO:rfeigel@forwardpinellas.org
GEO:27.9625617;-82.8015173
END:VEVENT
BEGIN:VEVENT
DTSTART;TZID=America/New_York:20200326T080000
DTEND;TZID=America/New_York:20200326T170000
DTSTAMP:20260425T105744
CREATED:20191115T203547Z
LAST-MODIFIED:20200317T131310Z
UID:5337-1585209600-1585242000@forwardpinellas.org
SUMMARY:CANCELLED - CITIZENS ADVISORY COMMITTEE (CAC)
DESCRIPTION:7:00 pm\, 310 Court Street\, Clearwater \nInformation on the Citizens Advisory Committee is available at: https://forwardpinellas.org/about-us/advisory-committees/citizens-advisory-council-cac \nPublic participation is solicited without regard to race\, color\, national origin\, age\, sex\, religion\, disability\, or family status. Persons who require special accommodations under the Americans with Disabilities Act or persons who require translation services (free of charge) should contact the Office of Human Rights\, 400 South Fort Harrison Avenue\, Suite 300\, Clearwater\, Florida 33756; [(727) 464-4062 (V/TDD)] at least seven days prior to the meeting.\nAppeals: Certain public meetings result in actions taken by the public board\, commission or agency that may be appealed; in such case persons are advised that\, if they decide to appeal any decision made at a public meeting/hearing\, they will need a record of the proceedings\, and\, for such purposes\, they may need to ensure that a verbatim record of the proceedings is made\, which record includes the testimony and evidence upon which the appeal is to be based. \n 
URL:https://forwardpinellas.org/event/citizens-advisory-committee-cac-4-2020-03-26/
LOCATION:Virtual Meeting\, FL\, United States
CATEGORIES:Citizens Advisory Committee
ORGANIZER;CN="Robert Feigel":MAILTO:rfeigel@forwardpinellas.org
GEO:27.9625617;-82.8015173
END:VEVENT
BEGIN:VEVENT
DTSTART;TZID=America/New_York:20200218T091500
DTEND;TZID=America/New_York:20200218T111500
DTSTAMP:20260425T105744
CREATED:20191115T194236Z
LAST-MODIFIED:20191115T194236Z
UID:5231-1582017300-1582024500@forwardpinellas.org
SUMMARY:LOCAL COORDINATING BOARD (LCB)
DESCRIPTION:9:15 am\, 310 Court Street\, Clearwater \nInformation on the Local Coordinating Board is available at: https://forwardpinellas.org/about-us/advisory-committees/local-coordinating-board-lcb \nPublic participation is solicited without regard to race\, color\, national origin\, age\, sex\, religion\, disability\, or family status. Persons who require special accommodations under the Americans with Disabilities Act or persons who require translation services (free of charge) should contact the Office of Human Rights\, 400 South Fort Harrison Avenue\, Suite 300\, Clearwater\, Florida 33756; [(727) 464-4062 (V/TDD)] at least seven days prior to the meeting.\nAppeals: Certain public meetings result in actions taken by the public board\, commission or agency that may be appealed; in such case persons are advised that\, if they decide to appeal any decision made at a public meeting/hearing\, they will need a record of the proceedings\, and\, for such purposes\, they may need to ensure that a verbatim record of the proceedings is made\, which record includes the testimony and evidence upon which the appeal is to be based.
URL:https://forwardpinellas.org/event/local-coordinating-board-lcb-3/2020-02-18/
LOCATION:Virtual Meeting\, FL\, United States
CATEGORIES:Local Coordinating Board
ORGANIZER;CN="Robert Feigel":MAILTO:rfeigel@forwardpinellas.org
GEO:27.9625617;-82.8015173
END:VEVENT
BEGIN:VEVENT
DTSTART;TZID=America/New_York:20200123T190000
DTEND;TZID=America/New_York:20200123T210000
DTSTAMP:20260425T105744
CREATED:20191115T203547Z
LAST-MODIFIED:20191115T212158Z
UID:5296-1579806000-1579813200@forwardpinellas.org
SUMMARY:CITIZENS ADVISORY COMMITTEE (CAC)
DESCRIPTION:7:00 pm\, 310 Court Street\, Clearwater \nInformation on the Citizens Advisory Committee is available at: https://forwardpinellas.org/about-us/advisory-committees/citizens-advisory-council-cac \nPublic participation is solicited without regard to race\, color\, national origin\, age\, sex\, religion\, disability\, or family status. Persons who require special accommodations under the Americans with Disabilities Act or persons who require translation services (free of charge) should contact the Office of Human Rights\, 400 South Fort Harrison Avenue\, Suite 300\, Clearwater\, Florida 33756; [(727) 464-4062 (V/TDD)] at least seven days prior to the meeting.\nAppeals: Certain public meetings result in actions taken by the public board\, commission or agency that may be appealed; in such case persons are advised that\, if they decide to appeal any decision made at a public meeting/hearing\, they will need a record of the proceedings\, and\, for such purposes\, they may need to ensure that a verbatim record of the proceedings is made\, which record includes the testimony and evidence upon which the appeal is to be based. \n 
URL:https://forwardpinellas.org/event/citizens-advisory-committee-cac-4/2020-01-23/
LOCATION:Virtual Meeting\, FL\, United States
CATEGORIES:Citizens Advisory Committee
ORGANIZER;CN="Robert Feigel":MAILTO:rfeigel@forwardpinellas.org
GEO:27.9625617;-82.8015173
END:VEVENT
BEGIN:VEVENT
DTSTART;TZID=America/New_York:20191106T130000
DTEND;TZID=America/New_York:20191106T150000
DTSTAMP:20260425T105744
CREATED:20191106T190927Z
LAST-MODIFIED:20191106T190927Z
UID:5204-1573045200-1573052400@forwardpinellas.org
SUMMARY:LOCAL COORDINATING BOARD (LCB) SUBCOMMITTEE MEETING
DESCRIPTION:LCB Subcommittee meeting for the CTC Evaluation \n1:00 pm – 3:00 pm \nPSTA\, 3201 Scherer Drive\, St. Petersburg\, FL
URL:https://forwardpinellas.org/event/local-coordinating-board-lcb-subcommittee-meeting/
LOCATION:PSTA\, 3201 Scherer Drive\, St. Petersburg\, FL\, 33716\, United States
ORGANIZER;CN="Robert Feigel":MAILTO:rfeigel@forwardpinellas.org
GEO:27.8869315;-82.6766647
X-APPLE-STRUCTURED-LOCATION;VALUE=URI;X-ADDRESS=PSTA 3201 Scherer Drive St. Petersburg FL 33716 United States;X-APPLE-RADIUS=500;X-TITLE=3201 Scherer Drive:geo:-82.6766647,27.8869315
END:VEVENT
BEGIN:VEVENT
DTSTART;TZID=UTC:20190725T190000
DTEND;TZID=UTC:20190725T210000
DTSTAMP:20260425T105744
CREATED:20181212T230148Z
LAST-MODIFIED:20190604T163749Z
UID:4326-1564081200-1564088400@forwardpinellas.org
SUMMARY:CANCELLED - CITIZENS ADVISORY COMMITTEE (CAC)
DESCRIPTION:7 pm\, 310 Court Street\, Clearwater \nInformation on the Citizens Advisory Committee is available at: https://forwardpinellas.org/about-us/advisory-committees/citizens-advisory-council-cac \nPublic participation is solicited without regard to race\, color\, national origin\, age\, sex\, religion\, disability\, or family status. Persons who require special accommodations under the Americans with Disabilities Act or persons who require translation services (free of charge) should contact the Office of Human Rights\, 400 South Fort Harrison Avenue\, Suite 300\, Clearwater\, Florida 33756; [(727) 464-4062 (V/TDD)] at least seven days prior to the meeting.\nAppeals: Certain public meetings result in actions taken by the public board\, commission or agency that may be appealed; in such case persons are advised that\, if they decide to appeal any decision made at a public meeting/hearing\, they will need a record of the proceedings\, and\, for such purposes\, they may need to ensure that a verbatim record of the proceedings is made\, which record includes the testimony and evidence upon which the appeal is to be based.
URL:https://forwardpinellas.org/event/citizens-advisory-committee-cac-3-2019-07-25/
LOCATION:Virtual Meeting\, FL\, United States
CATEGORIES:Citizens Advisory Committee
ORGANIZER;CN="Robert Feigel":MAILTO:rfeigel@forwardpinellas.org
GEO:27.9625617;-82.8015173
END:VEVENT
BEGIN:VEVENT
DTSTART;TZID=UTC:20190627T190000
DTEND;TZID=UTC:20190627T210000
DTSTAMP:20260425T105744
CREATED:20181212T230148Z
LAST-MODIFIED:20190604T164324Z
UID:4325-1561662000-1561669200@forwardpinellas.org
SUMMARY:CANCELLED - CITIZENS ADVISORY COMMITTEE (CAC)
DESCRIPTION:7 pm\, 310 Court Street\, Clearwater \nInformation on the Citizens Advisory Committee is available at: https://forwardpinellas.org/about-us/advisory-committees/citizens-advisory-council-cac \nPublic participation is solicited without regard to race\, color\, national origin\, age\, sex\, religion\, disability\, or family status. Persons who require special accommodations under the Americans with Disabilities Act or persons who require translation services (free of charge) should contact the Office of Human Rights\, 400 South Fort Harrison Avenue\, Suite 300\, Clearwater\, Florida 33756; [(727) 464-4062 (V/TDD)] at least seven days prior to the meeting.\nAppeals: Certain public meetings result in actions taken by the public board\, commission or agency that may be appealed; in such case persons are advised that\, if they decide to appeal any decision made at a public meeting/hearing\, they will need a record of the proceedings\, and\, for such purposes\, they may need to ensure that a verbatim record of the proceedings is made\, which record includes the testimony and evidence upon which the appeal is to be based.
URL:https://forwardpinellas.org/event/citizens-advisory-committee-cac-3-2019-06-27/
LOCATION:Virtual Meeting\, FL\, United States
CATEGORIES:Citizens Advisory Committee
ORGANIZER;CN="Robert Feigel":MAILTO:rfeigel@forwardpinellas.org
GEO:27.9625617;-82.8015173
END:VEVENT
BEGIN:VEVENT
DTSTART;TZID=UTC:20190124T190000
DTEND;TZID=UTC:20190124T210000
DTSTAMP:20260425T105744
CREATED:20181212T230148Z
LAST-MODIFIED:20181212T230249Z
UID:4319-1548356400-1548363600@forwardpinellas.org
SUMMARY:CITIZENS ADVISORY COMMITTEE (CAC)
DESCRIPTION:7 pm\, 310 Court Street\, Clearwater \nInformation on the Citizens Advisory Committee is available at: https://forwardpinellas.org/about-us/advisory-committees/citizens-advisory-council-cac \nPublic participation is solicited without regard to race\, color\, national origin\, age\, sex\, religion\, disability\, or family status. Persons who require special accommodations under the Americans with Disabilities Act or persons who require translation services (free of charge) should contact the Office of Human Rights\, 400 South Fort Harrison Avenue\, Suite 300\, Clearwater\, Florida 33756; [(727) 464-4062 (V/TDD)] at least seven days prior to the meeting.\nAppeals: Certain public meetings result in actions taken by the public board\, commission or agency that may be appealed; in such case persons are advised that\, if they decide to appeal any decision made at a public meeting/hearing\, they will need a record of the proceedings\, and\, for such purposes\, they may need to ensure that a verbatim record of the proceedings is made\, which record includes the testimony and evidence upon which the appeal is to be based.
URL:https://forwardpinellas.org/event/citizens-advisory-committee-cac-3/2019-01-24/
LOCATION:Virtual Meeting\, FL\, United States
CATEGORIES:Citizens Advisory Committee
ORGANIZER;CN="Robert Feigel":MAILTO:rfeigel@forwardpinellas.org
GEO:27.9625617;-82.8015173
END:VEVENT
BEGIN:VEVENT
DTSTART;TZID=UTC:20171026T170000
DTEND;TZID=UTC:20171026T184500
DTSTAMP:20260425T105744
CREATED:20171026T235536Z
LAST-MODIFIED:20171026T235536Z
UID:3131-1509037200-1509043500@forwardpinellas.org
SUMMARY:CAC Subcommittee Meeting
DESCRIPTION:5 pm\, 310 Court Street\, Clearwater \nThe Subcommittee will develop guiding principles to complement the vision statement the CAC developed earlier this year. \n  \nPublic participation is solicited without regard to race\, color\, national origin\, age\, sex\, religion\, disability\, or family status. Persons who require special accommodations under the Americans with Disabilities Act or persons who require translation services (free of charge) should contact the Office of Human Rights\, 400 South Fort Harrison Avenue\, Suite 300\, Clearwater\, Florida 33756; [(727) 464-4062 (V/TDD)] at least seven days prior to the meeting.\nAppeals: Certain public meetings result in actions taken by the public board\, commission or agency that may be appealed; in such case persons are advised that\, if they decide to appeal any decision made at a public meeting/hearing\, they will need a record of the proceedings\, and\, for such purposes\, they may need to ensure that a verbatim record of the proceedings is made\, which record includes the testimony and evidence upon which the appeal is to be based.
URL:https://forwardpinellas.org/event/cac-subcommittee-meeting/
LOCATION:Forward Pinellas 2nd Floor\, 310 Court Street\, Clearwater\, Florida\, 33756
CATEGORIES:Citizens Advisory Committee
ORGANIZER;CN="Robert Feigel":MAILTO:rfeigel@forwardpinellas.org
GEO:27.9625618;-82.8015173
X-APPLE-STRUCTURED-LOCATION;VALUE=URI;X-ADDRESS=Forward Pinellas 2nd Floor 310 Court Street Clearwater Florida 33756;X-APPLE-RADIUS=500;X-TITLE=310 Court Street:geo:-82.8015173,27.9625618
END:VEVENT
END:VCALENDAR